BEGIN:VCALENDAR
VERSION:2.0
PRODID:-//Little League - ECPv6.15.12.2//NONSGML v1.0//EN
CALSCALE:GREGORIAN
METHOD:PUBLISH
X-ORIGINAL-URL:https://www.littleleague.org
X-WR-CALDESC:Events for Little League
REFRESH-INTERVAL;VALUE=DURATION:PT1H
X-Robots-Tag:noindex
X-PUBLISHED-TTL:PT1H
BEGIN:VTIMEZONE
TZID:UTC
BEGIN:STANDARD
TZOFFSETFROM:+0000
TZOFFSETTO:+0000
TZNAME:UTC
DTSTART:20180101T000000
END:STANDARD
END:VTIMEZONE
BEGIN:VEVENT
DTSTART;VALUE=DATE:20190315
DTEND;VALUE=DATE:20190318
DTSTAMP:20260420T203302
CREATED:20181212T014800Z
LAST-MODIFIED:20181212T014800Z
UID:10000424-1552608000-1552867199@www.littleleague.org
SUMMARY:Europe-Africa Region: Umpire Clinic
DESCRIPTION:Please send the completed Form below to Little League Office in Kutno\, Poland at fax +48 (24) 254 4571 or e-mail: europe@littleleague.org. \n• Please use one form per person.\n• Participants will be housed in the Little League dormitories free of charge.\n• Dormitories will be available from Friday\, March 15th until Sunday\, March 17th.\n• Little League will provide five meals to registered participants during the clinic.\n• You must be 18 or older to attend the clinic.\n• Number of participants is limited. Registrations will be accepted on first come\, first serve basis.
URL:https://www.littleleague.org/event/2019-europe-africa-region-umpire-clinic/
CATEGORIES:Umpire Training
ORGANIZER;CN="Europe-Africa Region Headquarters":MAILTO:europe@littleleague.org
END:VEVENT
END:VCALENDAR