BEGIN:VCALENDAR
VERSION:2.0
PRODID:-//Little League - ECPv6.15.12.2//NONSGML v1.0//EN
CALSCALE:GREGORIAN
METHOD:PUBLISH
X-WR-CALNAME:Little League
X-ORIGINAL-URL:https://www.littleleague.org
X-WR-CALDESC:Events for Little League
REFRESH-INTERVAL;VALUE=DURATION:PT1H
X-Robots-Tag:noindex
X-PUBLISHED-TTL:PT1H
BEGIN:VTIMEZONE
TZID:America/Toronto
BEGIN:DAYLIGHT
TZOFFSETFROM:-0500
TZOFFSETTO:-0400
TZNAME:EDT
DTSTART:20230312T070000
END:DAYLIGHT
BEGIN:STANDARD
TZOFFSETFROM:-0400
TZOFFSETTO:-0500
TZNAME:EST
DTSTART:20231105T060000
END:STANDARD
BEGIN:DAYLIGHT
TZOFFSETFROM:-0500
TZOFFSETTO:-0400
TZNAME:EDT
DTSTART:20240310T070000
END:DAYLIGHT
BEGIN:STANDARD
TZOFFSETFROM:-0400
TZOFFSETTO:-0500
TZNAME:EST
DTSTART:20241103T060000
END:STANDARD
BEGIN:DAYLIGHT
TZOFFSETFROM:-0500
TZOFFSETTO:-0400
TZNAME:EDT
DTSTART:20250309T070000
END:DAYLIGHT
BEGIN:STANDARD
TZOFFSETFROM:-0400
TZOFFSETTO:-0500
TZNAME:EST
DTSTART:20251102T060000
END:STANDARD
END:VTIMEZONE
BEGIN:VEVENT
DTSTART;TZID=America/Toronto:20240210T080000
DTEND;TZID=America/Toronto:20240210T160000
DTSTAMP:20260421T102816
CREATED:20231207T151702Z
LAST-MODIFIED:20240105T140607Z
UID:10000655-1707552000-1707580800@www.littleleague.org
SUMMARY:East Region: Umpire Mechanics Clinic #1
DESCRIPTION:This one day umpire clinic will engage participants in hands-on activities to improve all facets of an umpire’s game. Ideal for both the novice and experienced umpire\, the clinic will provide participants with first-class instruction on the rationale and components of the approved Little League plate mechanics including stances\, signaling and footwork. Additionally\, the clinic will have a series of breakout sessions where participants will be asked to practice their skills under the watchful eyes of East Regional Umpire Staff. Targeted feedback is provided to gear umpires up for the coming Little League season. There will also be segments focused on the rules of Little League Baseball and Softball with a special emphasis on any relevant rule changes for the 2024 season. Bring your gear\, a glove if you have one\, and an open-mind to learn new things and improve your form. \nRegister Now
URL:https://www.littleleague.org/event/2024-east-region-umpire-mechanics-clinic-1/
LOCATION:East Region Headquarters\, 335 Mix Street\, Bristol\, CT\, 06010
END:VEVENT
BEGIN:VEVENT
DTSTART;TZID=America/Toronto:20240217T080000
DTEND;TZID=America/Toronto:20240217T160000
DTSTAMP:20260421T102816
CREATED:20231207T151916Z
LAST-MODIFIED:20240105T140614Z
UID:10000544-1708156800-1708185600@www.littleleague.org
SUMMARY:East Region: Umpire Mechanics Clinic #2
DESCRIPTION:This one day umpire clinic will engage participants in hands-on activities to improve all facets of an umpire’s game. Ideal for both the novice and experienced umpire\, the clinic will provide participants with first-class instruction on the rationale and components of the approved Little League plate mechanics including stances\, signaling and footwork. Additionally\, the clinic will have a series of breakout sessions where participants will be asked to practice their skills under the watchful eyes of East Regional Umpire Staff. Targeted feedback is provided to gear umpires up for the coming Little League season. There will also be segments focused on the rules of Little League Baseball and Softball with a special emphasis on any relevant rule changes for the 2024 season. Bring your gear\, a glove if you have one\, and an open-mind to learn new things and improve your form. \nRegister Now
URL:https://www.littleleague.org/event/2024-east-region-umpire-mechanics-clinic-2/
LOCATION:East Region Headquarters\, 335 Mix Street\, Bristol\, CT\, 06010
END:VEVENT
END:VCALENDAR