BEGIN:VCALENDAR
VERSION:2.0
PRODID:-//Little League - ECPv6.15.12.2//NONSGML v1.0//EN
CALSCALE:GREGORIAN
METHOD:PUBLISH
X-ORIGINAL-URL:https://www.littleleague.org
X-WR-CALDESC:Events for Little League
REFRESH-INTERVAL;VALUE=DURATION:PT1H
X-Robots-Tag:noindex
X-PUBLISHED-TTL:PT1H
BEGIN:VTIMEZONE
TZID:America/Toronto
BEGIN:DAYLIGHT
TZOFFSETFROM:-0500
TZOFFSETTO:-0400
TZNAME:EDT
DTSTART:20190310T070000
END:DAYLIGHT
BEGIN:STANDARD
TZOFFSETFROM:-0400
TZOFFSETTO:-0500
TZNAME:EST
DTSTART:20191103T060000
END:STANDARD
BEGIN:DAYLIGHT
TZOFFSETFROM:-0500
TZOFFSETTO:-0400
TZNAME:EDT
DTSTART:20200308T070000
END:DAYLIGHT
BEGIN:STANDARD
TZOFFSETFROM:-0400
TZOFFSETTO:-0500
TZNAME:EST
DTSTART:20201101T060000
END:STANDARD
BEGIN:DAYLIGHT
TZOFFSETFROM:-0500
TZOFFSETTO:-0400
TZNAME:EDT
DTSTART:20210314T070000
END:DAYLIGHT
BEGIN:STANDARD
TZOFFSETFROM:-0400
TZOFFSETTO:-0500
TZNAME:EST
DTSTART:20211107T060000
END:STANDARD
END:VTIMEZONE
BEGIN:VEVENT
DTSTART;VALUE=DATE:20200426
DTEND;VALUE=DATE:20200427
DTSTAMP:20260420T025231
CREATED:20200207T213551Z
LAST-MODIFIED:20200312T140903Z
UID:10000509-1587859200-1587945599@www.littleleague.org
SUMMARY:CA D-4 Challenger Jamboree - Walnut Creek\, CA
DESCRIPTION:For information on this event or any changes or cancellations\, please contact the event organizers listed below: \nCalifornia District 4 Jamboree\nApril 26\, 2020\nContact: Stephen Mohammed\, Sr.\npqinstall@sbcglobal.net\n925-478-1464 \nLittle League is monitoring the situation closely\, and we are advising all our leagues to follow the guidelines set by the World Health Organization\, Centers for Disease Control and Prevention (CDC)\, your state’s public health department (click here for a listing of state public health departments)\, and other county and/or local authorities including area school districts and government agencies. \nFor more information\, please visit our website at: https://www.littleleague.org/player-safety/coronavirus-update/. \n 
URL:https://www.littleleague.org/event/2020-ca-d-4-challenger-jamboree-walnut-creek-ca/
CATEGORIES:Challenger,Jamborees
END:VEVENT
END:VCALENDAR