BEGIN:VCALENDAR
VERSION:2.0
PRODID:-//Little League - ECPv6.15.12.2//NONSGML v1.0//EN
CALSCALE:GREGORIAN
METHOD:PUBLISH
X-WR-CALNAME:Little League
X-ORIGINAL-URL:https://www.littleleague.org
X-WR-CALDESC:Events for Little League
REFRESH-INTERVAL;VALUE=DURATION:PT1H
X-Robots-Tag:noindex
X-PUBLISHED-TTL:PT1H
BEGIN:VTIMEZONE
TZID:UTC
BEGIN:STANDARD
TZOFFSETFROM:+0000
TZOFFSETTO:+0000
TZNAME:UTC
DTSTART:20180101T000000
END:STANDARD
END:VTIMEZONE
BEGIN:VEVENT
DTSTART;VALUE=DATE:20190426
DTEND;VALUE=DATE:20190427
DTSTAMP:20260420T200031
CREATED:20190128T190212Z
LAST-MODIFIED:20190221T011605Z
UID:10000428-1556236800-1556323199@www.littleleague.org
SUMMARY:Ontario Challenger in the Schools\, Jamboree\, Toronto\, ON
DESCRIPTION:For additional information\, please email challenger@LittleLeague.org.
URL:https://www.littleleague.org/event/2019-ontario-challenger-schools-jamboree-toronto/
CATEGORIES:Challenger
END:VEVENT
BEGIN:VEVENT
DTSTART;VALUE=DATE:20190426
DTEND;VALUE=DATE:20190427
DTSTAMP:20260420T200031
CREATED:20190226T193348Z
LAST-MODIFIED:20190226T194610Z
UID:10000443-1556236800-1556323199@www.littleleague.org
SUMMARY:Fun Days III México - Mexicali\, CA
DESCRIPTION:For additional information\, please email challenger@LittleLeague.org.
URL:https://www.littleleague.org/event/2019-fun-days-iii-mexico/
CATEGORIES:Challenger
END:VEVENT
BEGIN:VEVENT
DTSTART;VALUE=DATE:20190428
DTEND;VALUE=DATE:20190429
DTSTAMP:20260420T200031
CREATED:20190226T192951Z
LAST-MODIFIED:20190226T194636Z
UID:10000441-1556409600-1556495999@www.littleleague.org
SUMMARY:California D4 Challenger Jamboree - Walnut Creek\, CA
DESCRIPTION:For additional information\, please email challenger@LittleLeague.org.
URL:https://www.littleleague.org/event/2019-california-d4-challenger-jamboree/
CATEGORIES:Challenger
END:VEVENT
END:VCALENDAR