BEGIN:VCALENDAR
VERSION:2.0
PRODID:-//Little League - ECPv6.15.12.2//NONSGML v1.0//EN
CALSCALE:GREGORIAN
METHOD:PUBLISH
X-WR-CALNAME:Little League
X-ORIGINAL-URL:https://www.littleleague.org
X-WR-CALDESC:Events for Little League
REFRESH-INTERVAL;VALUE=DURATION:PT1H
X-Robots-Tag:noindex
X-PUBLISHED-TTL:PT1H
BEGIN:VTIMEZONE
TZID:UTC
BEGIN:STANDARD
TZOFFSETFROM:+0000
TZOFFSETTO:+0000
TZNAME:UTC
DTSTART:20180101T000000
END:STANDARD
END:VTIMEZONE
BEGIN:VEVENT
DTSTART;VALUE=DATE:20190531
DTEND;VALUE=DATE:20190603
DTSTAMP:20260420T025634
CREATED:20180929T001505Z
LAST-MODIFIED:20190221T012637Z
UID:10000414-1559260800-1559519999@www.littleleague.org
SUMMARY:Texas State Baseball Jamboree - Dallas\, TX
DESCRIPTION:For further information\, contact Demiko Ervin 570.326.1921 x2245 or via email at dervin@littleleague.org.
URL:https://www.littleleague.org/event/2019-texas-state-baseball-jamboree/
LOCATION:PA
CATEGORIES:Urban Initiative
END:VEVENT
BEGIN:VEVENT
DTSTART;VALUE=DATE:20190607
DTEND;VALUE=DATE:20190610
DTSTAMP:20260420T025634
CREATED:20180929T001901Z
LAST-MODIFIED:20190221T012626Z
UID:10000415-1559865600-1560124799@www.littleleague.org
SUMMARY:Texas State Softball Jamboree - Houston\, TX
DESCRIPTION:For further information\, contact Demiko Ervin 570.326.1921 x2245 or via email at dervin@littleleague.org.
URL:https://www.littleleague.org/event/2019-texas-state-softball-jamboree/
LOCATION:PA
CATEGORIES:Urban Initiative
END:VEVENT
BEGIN:VEVENT
DTSTART;VALUE=DATE:20190614
DTEND;VALUE=DATE:20190617
DTSTAMP:20260420T025634
CREATED:20180929T002009Z
LAST-MODIFIED:20190221T012738Z
UID:10000416-1560470400-1560729599@www.littleleague.org
SUMMARY:New York Metro Jamboree - Bronx\, NY
DESCRIPTION:For further information\, contact Demiko Ervin 570.326.1921 x2245 or via email at dervin@littleleague.org.
URL:https://www.littleleague.org/event/2019-ny-metro-jamboree/
LOCATION:PA
CATEGORIES:Urban Initiative
END:VEVENT
BEGIN:VEVENT
DTSTART;VALUE=DATE:20190621
DTEND;VALUE=DATE:20190624
DTSTAMP:20260420T025634
CREATED:20180929T002108Z
LAST-MODIFIED:20190620T181005Z
UID:10000417-1561075200-1561334399@www.littleleague.org
SUMMARY:Central Region Jamboree - Indianapolis\, IN (CANCELLED)
DESCRIPTION:This Jamboree has been cancelled due to inclement weather. \nFor further information\, contact Demiko Ervin 570.326.1921 x2245 or via email at dervin@littleleague.org.
URL:https://www.littleleague.org/event/2019-central-region-jamboree/
LOCATION:PA
CATEGORIES:Urban Initiative
END:VEVENT
END:VCALENDAR