BEGIN:VCALENDAR
VERSION:2.0
PRODID:-//Little League - ECPv6.15.12.2//NONSGML v1.0//EN
CALSCALE:GREGORIAN
METHOD:PUBLISH
X-WR-CALNAME:Little League
X-ORIGINAL-URL:https://www.littleleague.org
X-WR-CALDESC:Events for Little League
REFRESH-INTERVAL;VALUE=DURATION:PT1H
X-Robots-Tag:noindex
X-PUBLISHED-TTL:PT1H
BEGIN:VTIMEZONE
TZID:UTC
BEGIN:STANDARD
TZOFFSETFROM:+0000
TZOFFSETTO:+0000
TZNAME:UTC
DTSTART:20180101T000000
END:STANDARD
END:VTIMEZONE
BEGIN:VEVENT
DTSTART;VALUE=DATE:20190412
DTEND;VALUE=DATE:20190415
DTSTAMP:20260420T054849
CREATED:20180929T001056Z
LAST-MODIFIED:20190221T011547Z
UID:10000411-1555027200-1555286399@www.littleleague.org
SUMMARY:Northern California Softball Jamboree - Richmond\, CA
DESCRIPTION:For further information\, contact Demiko Ervin 570.326.1921 x2245 or via email at dervin@littleleague.org.
URL:https://www.littleleague.org/event/2019-nothern-california-softball-jamboree/
LOCATION:PA
CATEGORIES:Urban Initiative
END:VEVENT
BEGIN:VEVENT
DTSTART;VALUE=DATE:20190426
DTEND;VALUE=DATE:20190429
DTSTAMP:20260420T054849
CREATED:20180929T001211Z
LAST-MODIFIED:20190221T011556Z
UID:10000412-1556236800-1556495999@www.littleleague.org
SUMMARY:Southern California Baseball Jamboree - Los Angeles\, CA
DESCRIPTION:For further information\, contact Demiko Ervin 570.326.1921 x2245 or via email at dervin@littleleague.org.
URL:https://www.littleleague.org/event/2019-southern-california-baseball-jamboree/
LOCATION:PA
CATEGORIES:Urban Initiative
END:VEVENT
END:VCALENDAR