BEGIN:VCALENDAR
VERSION:2.0
PRODID:-//Little League - ECPv6.15.12.2//NONSGML v1.0//EN
CALSCALE:GREGORIAN
METHOD:PUBLISH
X-ORIGINAL-URL:https://www.littleleague.org
X-WR-CALDESC:Events for Little League
REFRESH-INTERVAL;VALUE=DURATION:PT1H
X-Robots-Tag:noindex
X-PUBLISHED-TTL:PT1H
BEGIN:VTIMEZONE
TZID:America/Toronto
BEGIN:DAYLIGHT
TZOFFSETFROM:-0500
TZOFFSETTO:-0400
TZNAME:EDT
DTSTART:20200308T070000
END:DAYLIGHT
BEGIN:STANDARD
TZOFFSETFROM:-0400
TZOFFSETTO:-0500
TZNAME:EST
DTSTART:20201101T060000
END:STANDARD
BEGIN:DAYLIGHT
TZOFFSETFROM:-0500
TZOFFSETTO:-0400
TZNAME:EDT
DTSTART:20210314T070000
END:DAYLIGHT
BEGIN:STANDARD
TZOFFSETFROM:-0400
TZOFFSETTO:-0500
TZNAME:EST
DTSTART:20211107T060000
END:STANDARD
BEGIN:DAYLIGHT
TZOFFSETFROM:-0500
TZOFFSETTO:-0400
TZNAME:EDT
DTSTART:20220313T070000
END:DAYLIGHT
BEGIN:STANDARD
TZOFFSETFROM:-0400
TZOFFSETTO:-0500
TZNAME:EST
DTSTART:20221106T060000
END:STANDARD
END:VTIMEZONE
BEGIN:VEVENT
DTSTART;TZID=America/Toronto:20210307T193000
DTEND;TZID=America/Toronto:20210307T200500
DTSTAMP:20260419T210545
CREATED:20210126T195747Z
LAST-MODIFIED:20210225T202607Z
UID:10000454-1615145400-1615147500@www.littleleague.org
SUMMARY:Virtual Rules Clinic - Rule 1 Objectives of the Game and Rule 5 Putting the Ball in Play
DESCRIPTION:Rule 1 Explains what the teams are trying to accomplish and how they go about it. \nRule 5 Explaining the importance of a live ball. \nRegister for the Webinar
URL:https://www.littleleague.org/event/virtual-umpire-clinic-rule-1-objectives-of-the-game-and-rule-5-putting-the-ball-in-play/
LOCATION:GA
CATEGORIES:Umpire Training,Webinar
END:VEVENT
BEGIN:VEVENT
DTSTART;TZID=America/Toronto:20210314T193000
DTEND;TZID=America/Toronto:20210314T201500
DTSTAMP:20260419T210545
CREATED:20210126T200012Z
LAST-MODIFIED:20210225T202612Z
UID:10000456-1615750200-1615752900@www.littleleague.org
SUMMARY:Virtual Rules Clinic - Rule 6 - The Batter
DESCRIPTION:A closer look at the batter\, his/her protections\, rights and potential violations. \nRegister for the Webinar
URL:https://www.littleleague.org/event/virtual-umpire-clinic-the-batter/
LOCATION:GA
CATEGORIES:Umpire Training,Webinar
END:VEVENT
BEGIN:VEVENT
DTSTART;TZID=America/Toronto:20210321T193000
DTEND;TZID=America/Toronto:20210321T201000
DTSTAMP:20260419T210545
CREATED:20210126T200211Z
LAST-MODIFIED:20210225T202617Z
UID:10000458-1616355000-1616357400@www.littleleague.org
SUMMARY:Virtual Rules Clinic - Rule 7 - The Runner
DESCRIPTION:Explanation of the runner’s rights and responsibilities. \nRegister for the Webinar
URL:https://www.littleleague.org/event/virtual-umpire-clinic-rule-7-the-runner/
LOCATION:GA
CATEGORIES:Umpire Training,Webinar
END:VEVENT
BEGIN:VEVENT
DTSTART;TZID=America/Toronto:20210328T193000
DTEND;TZID=America/Toronto:20210328T200500
DTSTAMP:20260419T210545
CREATED:20210126T200426Z
LAST-MODIFIED:20210302T144725Z
UID:10000460-1616959800-1616961900@www.littleleague.org
SUMMARY:Virtual Rules Clinic - Rule 8 - The Pitcher
DESCRIPTION:This session will discuss the various legal and illegal actions unique to the pitcher position in the various divisions of Little League Baseball®. \nRegister for the Webinar
URL:https://www.littleleague.org/event/virtual-umpire-clinic-rule-8-the-pitcher/
LOCATION:GA
CATEGORIES:Umpire Training,Webinar
END:VEVENT
END:VCALENDAR