BEGIN:VCALENDAR
VERSION:2.0
PRODID:-//Little League - ECPv6.15.12.2//NONSGML v1.0//EN
CALSCALE:GREGORIAN
METHOD:PUBLISH
X-ORIGINAL-URL:https://www.littleleague.org
X-WR-CALDESC:Events for Little League
REFRESH-INTERVAL;VALUE=DURATION:PT1H
X-Robots-Tag:noindex
X-PUBLISHED-TTL:PT1H
BEGIN:VTIMEZONE
TZID:UTC
BEGIN:STANDARD
TZOFFSETFROM:+0000
TZOFFSETTO:+0000
TZNAME:UTC
DTSTART:20180101T000000
END:STANDARD
END:VTIMEZONE
BEGIN:VEVENT
DTSTART;VALUE=DATE:20190602
DTEND;VALUE=DATE:20190603
DTSTAMP:20260420T105234
CREATED:20190226T193753Z
LAST-MODIFIED:20190226T194815Z
UID:10000448-1559433600-1559519999@www.littleleague.org
SUMMARY:Weston Challenger Jamboree - Weston\, MA
DESCRIPTION:For additional information\, please email challenger@LittleLeague.org.
URL:https://www.littleleague.org/event/2019-weston-challenger-jamboree/
CATEGORIES:Challenger
END:VEVENT
BEGIN:VEVENT
DTSTART;VALUE=DATE:20190609
DTEND;VALUE=DATE:20190610
DTSTAMP:20260420T105234
CREATED:20190226T193852Z
LAST-MODIFIED:20190226T194848Z
UID:10000450-1560038400-1560124799@www.littleleague.org
SUMMARY:RI District 2 Challenger Jamboree - Portmouth\, RI
DESCRIPTION:For additional information\, please email challenger@LittleLeague.org.
URL:https://www.littleleague.org/event/2019-ri-district-2-challenger-jamboree/
CATEGORIES:Challenger
END:VEVENT
BEGIN:VEVENT
DTSTART;VALUE=DATE:20190615
DTEND;VALUE=DATE:20190616
DTSTAMP:20260420T105234
CREATED:20190226T194004Z
LAST-MODIFIED:20190226T194915Z
UID:10000453-1560556800-1560643199@www.littleleague.org
SUMMARY:Washington District 8 Challenger Division - Woodinville\, WA
DESCRIPTION:For additional information\, please email challenger@LittleLeague.org.
URL:https://www.littleleague.org/event/2019-washington-district-8-challenger-division/
CATEGORIES:Challenger
END:VEVENT
BEGIN:VEVENT
DTSTART;VALUE=DATE:20190627
DTEND;VALUE=DATE:20190702
DTSTAMP:20260420T105234
CREATED:20190128T190712Z
LAST-MODIFIED:20190221T012743Z
UID:10000429-1561593600-1562025599@www.littleleague.org
SUMMARY:30th Anniversary Challenger Baseball Jamboree\, Calgary\, AB
DESCRIPTION:For additional information\, please email challenger@LittleLeague.org.
URL:https://www.littleleague.org/event/2019-30th-anniversary-challenger-baseball-jamboree-calgary-ab/
CATEGORIES:Challenger
END:VEVENT
END:VCALENDAR